BEGIN:VCALENDAR
VERSION:2.0
PRODID:SchoolNow
CALSCALE:GREGORIAN
BEGIN:VEVENT
UID:298db720-3c57-11f0-b404-0e101e0bc23f
DTSTAMP:20251216T154522Z
SUMMARY:BASKETBALL-F Boys - VS IC Catholic Prep (Game)
LOCATION:HOME - Westmont HS Gym
URL;VALUE=URI:https://www.cusd201.org/whs/athletics/calendar/8218456/basket
 ball-f-boys-vs-ic-catholic-prep-game
DTSTART:20260105T223000Z
DTEND:20260106T000000Z
END:VEVENT
END:VCALENDAR
