BEGIN:VCALENDAR
VERSION:2.0
PRODID:SchoolNow
CALSCALE:GREGORIAN
BEGIN:VEVENT
UID:298db806-3c57-11f0-b3ee-0e101e0bc23f
DTSTAMP:20251216T154523Z
SUMMARY:BASKETBALL-S Boys - VS IC Catholic Prep (Game)
LOCATION:HOME - Westmont HS Gym
URL;VALUE=URI:https://www.cusd201.org/whs/athletics/calendar/8218457/basket
 ball-s-boys-vs-ic-catholic-prep-game
DTSTART:20260106T000000Z
DTEND:20260106T013000Z
END:VEVENT
END:VCALENDAR
