BEGIN:VCALENDAR
VERSION:2.0
PRODID:SchoolNow
CALSCALE:GREGORIAN
BEGIN:VEVENT
UID:29b42f8e-3cbd-11f0-8434-0e611cd4d555
DTSTAMP:20251216T154522Z
SUMMARY:WRESTLING-V Boys - VS TRI MEET (Game)
LOCATION:HOME - Westmont HS Gym
URL;VALUE=URI:https://www.cusd201.org/whs/athletics/calendar/8221447/wrestl
 ing-v-boys-vs-tri-meet-game
DTSTART:20251204T233000Z
DTEND:20251205T023000Z
END:VEVENT
END:VCALENDAR
