BEGIN:VCALENDAR
VERSION:2.0
PRODID:SchoolNow
CALSCALE:GREGORIAN
BEGIN:VEVENT
UID:29b43308-3cbd-11f0-95ed-0e611cd4d555
DTSTAMP:20251216T154523Z
SUMMARY:BASKETBALL-V Boys - VS Yeshiva (Game)
LOCATION:HOME - Westmont HS Gym
URL;VALUE=URI:https://www.cusd201.org/whs/athletics/calendar/8221448/basket
 ball-v-boys-vs-yeshiva-game
DTSTART:20251204T013000Z
DTEND:20251204T030000Z
END:VEVENT
END:VCALENDAR
