BEGIN:VCALENDAR
VERSION:2.0
PRODID:SchoolNow
CALSCALE:GREGORIAN
BEGIN:VEVENT
UID:287adbd0-3cf0-11f0-be2c-0281bf5f27bd
DTSTAMP:20251216T154523Z
SUMMARY:BASKETBALL-V Boys - VS ISLAMIC FOUNDATION (Game)
LOCATION:HOME - Westmont HS Gym
URL;VALUE=URI:https://www.cusd201.org/whs/athletics/calendar/8222933/basket
 ball-v-boys-vs-islamic-foundation-game
DTSTART:20251209T010000Z
DTEND:20251209T023000Z
END:VEVENT
END:VCALENDAR
