BEGIN:VCALENDAR
VERSION:2.0
PRODID:SchoolNow
CALSCALE:GREGORIAN
BEGIN:VEVENT
UID:287adf86-3cf0-11f0-8f09-0281bf5f27bd
DTSTAMP:20251216T154523Z
SUMMARY:WRESTLING-V Boys - VS Quad (Game)
LOCATION:HOME - Westmont HS Gym
URL;VALUE=URI:https://www.cusd201.org/whs/athletics/calendar/8222934/wrestl
 ing-v-boys-vs-quad-game
DTSTART:20251125T230000Z
DTEND:20251126T020000Z
END:VEVENT
END:VCALENDAR
