BEGIN:VCALENDAR
VERSION:2.0
PRODID:SchoolNow
CALSCALE:GREGORIAN
BEGIN:VEVENT
UID:287ae0da-3cf0-11f0-bb1a-0281bf5f27bd
DTSTAMP:20251216T154523Z
SUMMARY:BASKETBALL-JV Boys - VS Yeshiva (Game)
LOCATION:HOME - Westmont HS Gym
URL;VALUE=URI:https://www.cusd201.org/whs/athletics/calendar/8222935/basket
 ball-jv-boys-vs-yeshiva-game
DTSTART:20251204T000000Z
DTEND:20251204T013000Z
END:VEVENT
END:VCALENDAR
