BEGIN:VCALENDAR
VERSION:2.0
PRODID:SchoolNow
CALSCALE:GREGORIAN
BEGIN:VEVENT
UID:287ae206-3cf0-11f0-8a63-0281bf5f27bd
DTSTAMP:20251216T154523Z
SUMMARY:BASKETBALL-JV Boys - VS ISLAMIC FOUNDATION (Game)
LOCATION:HOME - Westmont HS Gym
URL;VALUE=URI:https://www.cusd201.org/whs/athletics/calendar/8222936/basket
 ball-jv-boys-vs-islamic-foundation-game
DTSTART:20251208T233000Z
DTEND:20251209T010000Z
END:VEVENT
END:VCALENDAR
