BEGIN:VCALENDAR
VERSION:2.0
PRODID:SchoolNow
CALSCALE:GREGORIAN
BEGIN:VEVENT
UID:21a137cc-4020-11f0-8b72-0a58a9feac02
DTSTAMP:20251216T154522Z
SUMMARY:TIME TBD- SOFTBALL-V Girls - VS Plymouth (Wisconsin) (Game)
LOCATION:HOME - Westmont HS Softball Field
URL;VALUE=URI:https://www.cusd201.org/whs/athletics/calendar/8243294/time-t
 bd-softball-v-girls-vs-plymouth-wisconsin-game
DTSTART:20260418T160000Z
DTEND:20260419T045900Z
END:VEVENT
END:VCALENDAR
