BEGIN:VCALENDAR
VERSION:2.0
PRODID:SchoolNow
CALSCALE:GREGORIAN
BEGIN:VEVENT
UID:e9792ad0-411e-11f0-bd38-0affe120378f
DTSTAMP:20251216T154523Z
SUMMARY:WRESTLING-V Boys @ YORKVILLE CHRISTIAN (Game)
LOCATION:Away - YORKVILLE CHRISTIAN
URL;VALUE=URI:https://www.cusd201.org/whs/athletics/calendar/8250524/wrestl
 ing-v-boys-yorkville-christian-game
DTSTART:20260114T233000Z
DTEND:20260115T020000Z
END:VEVENT
END:VCALENDAR
