BEGIN:VCALENDAR
VERSION:2.0
PRODID:SchoolNow
CALSCALE:GREGORIAN
BEGIN:VEVENT
UID:b31f33c4-4580-11f0-a9a4-0affe007e98f
DTSTAMP:20251216T154523Z
SUMMARY:BASEBALL-JV Boys - VS Noble Street Charter (Game)
LOCATION:HOME - Westmont HS Varsity Baseball Field
URL;VALUE=URI:https://www.cusd201.org/whs/athletics/calendar/8277160/baseba
 ll-jv-boys-vs-noble-street-charter-game
DTSTART:20260326T213000Z
DTEND:20260326T233000Z
END:VEVENT
END:VCALENDAR
