BEGIN:VCALENDAR
VERSION:2.0
PRODID:SchoolNow
CALSCALE:GREGORIAN
BEGIN:VEVENT
UID:b31f3504-4580-11f0-8ba0-0affe007e98f
DTSTAMP:20251216T154523Z
SUMMARY:BASEBALL-V Boys @ Richmond-Burton (Game)
LOCATION:Away - Richmond-Burton
URL;VALUE=URI:https://www.cusd201.org/whs/athletics/calendar/8277161/baseba
 ll-v-boys-richmond-burton-game
DTSTART:20260425T160000Z
DTEND:20260425T180000Z
END:VEVENT
END:VCALENDAR
