BEGIN:VCALENDAR
VERSION:2.0
PRODID:SchoolNow
CALSCALE:GREGORIAN
BEGIN:VEVENT
UID:b31f3612-4580-11f0-9acd-0affe007e98f
DTSTAMP:20251216T154523Z
SUMMARY:BASEBALL-JV Boys - VS Richmond-Burton (Game)
LOCATION:HOME - Richmond-Burton
URL;VALUE=URI:https://www.cusd201.org/whs/athletics/calendar/8277162/baseba
 ll-jv-boys-vs-richmond-burton-game
DTSTART:20260425T160000Z
DTEND:20260425T180000Z
END:VEVENT
END:VCALENDAR
