BEGIN:VCALENDAR
VERSION:2.0
PRODID:SchoolNow
CALSCALE:GREGORIAN
BEGIN:VEVENT
UID:aecc3cd0-45b3-11f0-9e04-0a58a9feac02
DTSTAMP:20251216T154523Z
SUMMARY:SOCCER-V Boys - VS Intrinsic Downtown Campus (Game)
LOCATION:HOME - Westmont HS Stadium
URL;VALUE=URI:https://www.cusd201.org/whs/athletics/calendar/8279024/soccer
 -v-boys-vs-intrinsic-downtown-campus-game
DTSTART:20251001T220000Z
DTEND:20251002T000000Z
END:VEVENT
END:VCALENDAR
