BEGIN:VCALENDAR
VERSION:2.0
PRODID:SchoolNow
CALSCALE:GREGORIAN
BEGIN:VEVENT
UID:aa448908-464c-11f0-b603-0a58a9feac02
DTSTAMP:20251216T154523Z
SUMMARY:TIME TBD- BASEBALL-V Boys @ Ida Crown (Game)
LOCATION:Away - Ida Crown
URL;VALUE=URI:https://www.cusd201.org/whs/athletics/calendar/8282680/time-t
 bd-baseball-v-boys-ida-crown-game
DTSTART:20260427T050000Z
DTEND:20260428T045900Z
END:VEVENT
END:VCALENDAR
