BEGIN:VCALENDAR
VERSION:2.0
PRODID:SchoolNow
CALSCALE:GREGORIAN
BEGIN:VEVENT
UID:aa448c6e-464c-11f0-af9f-0a58a9feac02
DTSTAMP:20251216T154522Z
SUMMARY:WRESTLING-V Boys @ Fenton (Game)
LOCATION:Away - Fenton
URL;VALUE=URI:https://www.cusd201.org/whs/athletics/calendar/8282682/wrestl
 ing-v-boys-fenton-game
DTSTART:20251129T150000Z
DTEND:20251129T180000Z
END:VEVENT
END:VCALENDAR
