BEGIN:VCALENDAR
VERSION:2.0
PRODID:SchoolNow
CALSCALE:GREGORIAN
BEGIN:VEVENT
UID:3998e58e-47d0-11f0-b982-0ed9e688e2a1
DTSTAMP:20251216T154523Z
SUMMARY:BASKETBALL-V Girls - VS Season starts (Game)
LOCATION:HOME - Westmont HS Gym
URL;VALUE=URI:https://www.cusd201.org/whs/athletics/calendar/8293809/basket
 ball-v-girls-vs-season-starts-game
DTSTART:20251103T210000Z
DTEND:20251103T230000Z
END:VEVENT
END:VCALENDAR
