BEGIN:VCALENDAR
VERSION:2.0
PRODID:SchoolNow
CALSCALE:GREGORIAN
BEGIN:VEVENT
UID:3998e944-47d0-11f0-b213-0ed9e688e2a1
DTSTAMP:20251216T154522Z
SUMMARY:SOCCER-V Boys @ Body Armor Tournament (Game)
LOCATION:Away - Waukegan Sports Park
URL;VALUE=URI:https://www.cusd201.org/whs/athletics/calendar/8293812/soccer
 -v-boys-body-armor-tournament-game
DTSTART:20250913T170000Z
DTEND:20250913T190000Z
END:VEVENT
END:VCALENDAR
