BEGIN:VCALENDAR
VERSION:2.0
PRODID:SchoolNow
CALSCALE:GREGORIAN
BEGIN:VEVENT
UID:3998ea2a-47d0-11f0-b5b0-0ed9e688e2a1
DTSTAMP:20251216T154522Z
SUMMARY:SOCCER-V Boys - VS Body Armor Tournament (Game)
LOCATION:HOME - Westmont HS Stadium
URL;VALUE=URI:https://www.cusd201.org/whs/athletics/calendar/8293813/soccer
 -v-boys-vs-body-armor-tournament-game
DTSTART:20250916T000000Z
DTEND:20250916T020000Z
END:VEVENT
END:VCALENDAR
