BEGIN:VCALENDAR
VERSION:2.0
PRODID:SchoolNow
CALSCALE:GREGORIAN
BEGIN:VEVENT
UID:3998ecb4-47d0-11f0-a675-0ed9e688e2a1
DTSTAMP:20251216T154522Z
SUMMARY:BASKETBALL-V Boys - VS Season starts (Game)
LOCATION:HOME - Westmont HS Gym
URL;VALUE=URI:https://www.cusd201.org/whs/athletics/calendar/8293815/basket
 ball-v-boys-vs-season-starts-game
DTSTART:20251110T210000Z
DTEND:20251110T230000Z
END:VEVENT
END:VCALENDAR
