BEGIN:VCALENDAR
VERSION:2.0
PRODID:SchoolNow
CALSCALE:GREGORIAN
BEGIN:VEVENT
UID:36f98418-4803-11f0-8f68-0ef966bbc731
DTSTAMP:20251216T154523Z
SUMMARY:TRACK and FIELD-V Boys @ Seneca (Game)
LOCATION:Away - Seneca
URL;VALUE=URI:https://www.cusd201.org/whs/athletics/calendar/8295310/track-
 and-field-v-boys-seneca-game
DTSTART:20260417T200000Z
DTEND:20260418T030000Z
END:VEVENT
END:VCALENDAR
