BEGIN:VCALENDAR
VERSION:2.0
PRODID:SchoolNow
CALSCALE:GREGORIAN
BEGIN:VEVENT
UID:36f9a402-4803-11f0-ab3f-0ef966bbc731
DTSTAMP:20251216T154523Z
SUMMARY:TRACK and FIELD-V Girls @ Seneca (Game)
LOCATION:Away - Seneca
URL;VALUE=URI:https://www.cusd201.org/whs/athletics/calendar/8295311/track-
 and-field-v-girls-seneca-game
DTSTART:20260417T200000Z
DTEND:20260418T030000Z
END:VEVENT
END:VCALENDAR
