BEGIN:VCALENDAR
VERSION:2.0
PRODID:SchoolNow
CALSCALE:GREGORIAN
BEGIN:VEVENT
UID:36f9a5ba-4803-11f0-961f-0ef966bbc731
DTSTAMP:20251216T154522Z
SUMMARY:TRACK and FIELD-JV Boys @ Seneca (Game)
LOCATION:Away - Seneca
URL;VALUE=URI:https://www.cusd201.org/whs/athletics/calendar/8295312/track-
 and-field-jv-boys-seneca-game
DTSTART:20260427T200000Z
DTEND:20260428T010000Z
END:VEVENT
END:VCALENDAR
