BEGIN:VCALENDAR
VERSION:2.0
PRODID:SchoolNow
CALSCALE:GREGORIAN
BEGIN:VEVENT
UID:37044d94-4803-11f0-943f-0ef966bbc731
DTSTAMP:20251216T154523Z
SUMMARY:TRACK and FIELD-JV Girls @ Seneca (Game)
LOCATION:Away - Seneca
URL;VALUE=URI:https://www.cusd201.org/whs/athletics/calendar/8295313/track-
 and-field-jv-girls-seneca-game
DTSTART:20260427T200000Z
DTEND:20260428T010000Z
END:VEVENT
END:VCALENDAR
