BEGIN:VCALENDAR
VERSION:2.0
PRODID:SchoolNow
CALSCALE:GREGORIAN
BEGIN:VEVENT
UID:c939b7d4-489a-11f0-a452-0a58a9feac02
DTSTAMP:20251216T154523Z
SUMMARY:TRACK and FIELD-V Boys @ Seneca (Game)
LOCATION:Away - Seneca
URL;VALUE=URI:https://www.cusd201.org/whs/athletics/calendar/8298663/track-
 and-field-v-boys-seneca-game
DTSTART:20260421T210000Z
DTEND:20260422T010000Z
END:VEVENT
END:VCALENDAR
