BEGIN:VCALENDAR
VERSION:2.0
PRODID:SchoolNow
CALSCALE:GREGORIAN
BEGIN:VEVENT
UID:c939b90a-489a-11f0-9deb-0a58a9feac02
DTSTAMP:20251216T154523Z
SUMMARY:TRACK and FIELD-V Girls @ Seneca (Game)
LOCATION:Away - Seneca
URL;VALUE=URI:https://www.cusd201.org/whs/athletics/calendar/8298664/track-
 and-field-v-girls-seneca-game
DTSTART:20260421T210000Z
DTEND:20260422T010000Z
END:VEVENT
END:VCALENDAR
