BEGIN:VCALENDAR
VERSION:2.0
PRODID:SchoolNow
CALSCALE:GREGORIAN
BEGIN:VEVENT
UID:a18d7f40-4bf6-11f0-a9b3-0a58a9feac02
DTSTAMP:20251216T154522Z
SUMMARY:CROSS COUNTRY-V Boys @ IHSA Regional Championship (Game)
LOCATION:Away - Lisle Community Park
URL;VALUE=URI:https://www.cusd201.org/whs/athletics/calendar/8322218/cross-
 country-v-boys-ihsa-regional-championship-game
DTSTART:20251025T160000Z
DTEND:20251025T170000Z
END:VEVENT
END:VCALENDAR
