BEGIN:VCALENDAR
VERSION:2.0
PRODID:SchoolNow
CALSCALE:GREGORIAN
BEGIN:VEVENT
UID:a18d82b0-4bf6-11f0-85d4-0a58a9feac02
DTSTAMP:20251216T154522Z
SUMMARY:CROSS COUNTRY-V Girls @ IHSA Regional Championship (Game)
LOCATION:Away - Lisle Community Park
URL;VALUE=URI:https://www.cusd201.org/whs/athletics/calendar/8322219/cross-
 country-v-girls-ihsa-regional-championship-game
DTSTART:20251025T150000Z
DTEND:20251025T160000Z
END:VEVENT
END:VCALENDAR
