BEGIN:VCALENDAR
VERSION:2.0
PRODID:SchoolNow
CALSCALE:GREGORIAN
BEGIN:VEVENT
UID:a18d85da-4bf6-11f0-9ade-0a58a9feac02
DTSTAMP:20251216T154523Z
SUMMARY:CROSS COUNTRY-V Girls @ IHSA Sectional Championship (Game)
LOCATION:Away - Lisle Community Park
URL;VALUE=URI:https://www.cusd201.org/whs/athletics/calendar/8322221/cross-
 country-v-girls-ihsa-sectional-championship-game
DTSTART:20251101T150000Z
DTEND:20251101T160000Z
END:VEVENT
END:VCALENDAR
