BEGIN:VCALENDAR
VERSION:2.0
PRODID:SchoolNow
CALSCALE:GREGORIAN
BEGIN:VEVENT
UID:33975ff4-4c8e-11f0-87b5-0a58a9feac02
DTSTAMP:20251216T154523Z
SUMMARY:SOFTBALL-V Girls @ Regina Dominican (Game)
LOCATION:Away - Regina Dominican
URL;VALUE=URI:https://www.cusd201.org/whs/athletics/calendar/8325831/softba
 ll-v-girls-regina-dominican-game
DTSTART:20260430T213000Z
DTEND:20260430T233000Z
END:VEVENT
END:VCALENDAR
