BEGIN:VCALENDAR
VERSION:2.0
PRODID:SchoolNow
CALSCALE:GREGORIAN
BEGIN:VEVENT
UID:33977e80-4c8e-11f0-95bb-0a58a9feac02
DTSTAMP:20251216T154523Z
SUMMARY:VOLLEYBALL-V Girls - VS Rochelle Zell (Game)
LOCATION:HOME - Westmont HS Gym
URL;VALUE=URI:https://www.cusd201.org/whs/athletics/calendar/8325832/volley
 ball-v-girls-vs-rochelle-zell-game
DTSTART:20250915T230000Z
DTEND:20250916T000000Z
END:VEVENT
END:VCALENDAR
