BEGIN:VCALENDAR
VERSION:2.0
PRODID:SchoolNow
CALSCALE:GREGORIAN
BEGIN:VEVENT
UID:33978024-4c8e-11f0-b15c-0a58a9feac02
DTSTAMP:20251216T154523Z
SUMMARY:VOLLEYBALL-JV Girls - VS Regina Dominican (Game)
LOCATION:HOME - Westmont HS Gym
URL;VALUE=URI:https://www.cusd201.org/whs/athletics/calendar/8325833/volley
 ball-jv-girls-vs-regina-dominican-game
DTSTART:20251001T223000Z
DTEND:20251001T233000Z
END:VEVENT
END:VCALENDAR
