BEGIN:VCALENDAR
VERSION:2.0
PRODID:SchoolNow
CALSCALE:GREGORIAN
BEGIN:VEVENT
UID:3397824a-4c8e-11f0-954f-0a58a9feac02
DTSTAMP:20251216T154523Z
SUMMARY:BASKETBALL-JV Boys - VS Chesterton Academy (Game)
LOCATION:HOME - Westmont HS Gym
URL;VALUE=URI:https://www.cusd201.org/whs/athletics/calendar/8325835/basket
 ball-jv-boys-vs-chesterton-academy-game
DTSTART:20251209T223000Z
DTEND:20251210T000000Z
END:VEVENT
END:VCALENDAR
