BEGIN:VCALENDAR
VERSION:2.0
PRODID:SchoolNow
CALSCALE:GREGORIAN
BEGIN:VEVENT
UID:3397833a-4c8e-11f0-85f0-0a58a9feac02
DTSTAMP:20251216T154523Z
SUMMARY:BASKETBALL-V Girls - VS Chesterton Academy (Game)
LOCATION:HOME - Westmont HS Gym
URL;VALUE=URI:https://www.cusd201.org/whs/athletics/calendar/8325836/basket
 ball-v-girls-vs-chesterton-academy-game
DTSTART:20251210T000000Z
DTEND:20251210T013000Z
END:VEVENT
END:VCALENDAR
