BEGIN:VCALENDAR
VERSION:2.0
PRODID:SchoolNow
CALSCALE:GREGORIAN
BEGIN:VEVENT
UID:3397842a-4c8e-11f0-8602-0a58a9feac02
DTSTAMP:20251216T154523Z
SUMMARY:BASKETBALL-V Boys - VS Chesterton Academy (Game)
LOCATION:HOME - Westmont HS Gym
URL;VALUE=URI:https://www.cusd201.org/whs/athletics/calendar/8325837/basket
 ball-v-boys-vs-chesterton-academy-game
DTSTART:20251210T013000Z
DTEND:20251210T030000Z
END:VEVENT
END:VCALENDAR
