BEGIN:VCALENDAR
VERSION:2.0
PRODID:SchoolNow
CALSCALE:GREGORIAN
BEGIN:VEVENT
UID:33978506-4c8e-11f0-bc44-0a58a9feac02
DTSTAMP:20251216T154523Z
SUMMARY:SOFTBALL-V Girls @ Fenton (Game)
LOCATION:Away - Fenton
URL;VALUE=URI:https://www.cusd201.org/whs/athletics/calendar/8325838/softba
 ll-v-girls-fenton-game
DTSTART:20260323T214500Z
DTEND:20260324T000000Z
END:VEVENT
END:VCALENDAR
