BEGIN:VCALENDAR
VERSION:2.0
PRODID:SchoolNow
CALSCALE:GREGORIAN
BEGIN:VEVENT
UID:339785ec-4c8e-11f0-9bfb-0a58a9feac02
DTSTAMP:20251216T154522Z
SUMMARY:BASKETBALL-F Boys - VS Glenbard West (Game)
LOCATION:HOME - Westmont HS Gym
URL;VALUE=URI:https://www.cusd201.org/whs/athletics/calendar/8325839/basket
 ball-f-boys-vs-glenbard-west-game
DTSTART:20251210T230000Z
DTEND:20251211T010000Z
END:VEVENT
END:VCALENDAR
