BEGIN:VCALENDAR
VERSION:2.0
PRODID:SchoolNow
CALSCALE:GREGORIAN
BEGIN:VEVENT
UID:339786dc-4c8e-11f0-9624-0a58a9feac02
DTSTAMP:20251216T154523Z
SUMMARY:BASKETBALL-F Boys @ Glenbard West (Game)
LOCATION:Away - Glenbard West
URL;VALUE=URI:https://www.cusd201.org/whs/athletics/calendar/8325840/basket
 ball-f-boys-glenbard-west-game
DTSTART:20260121T233000Z
DTEND:20260122T013000Z
END:VEVENT
END:VCALENDAR
