BEGIN:VCALENDAR
VERSION:2.0
PRODID:SchoolNow
CALSCALE:GREGORIAN
BEGIN:VEVENT
UID:831506fa-4d59-11f0-8cba-02ea44af8eed
DTSTAMP:20251216T154522Z
SUMMARY:SOCCER-V Boys - VS TBA (Game)
LOCATION:HOME - Westmont HS Stadium
URL;VALUE=URI:https://www.cusd201.org/whs/athletics/calendar/8330202/soccer
 -v-boys-vs-tba-game
DTSTART:20251010T223000Z
DTEND:20251011T003000Z
END:VEVENT
END:VCALENDAR
