BEGIN:VCALENDAR
VERSION:2.0
PRODID:SchoolNow
CALSCALE:GREGORIAN
BEGIN:VEVENT
UID:53bfbc48-5082-11f0-a024-0a58a9feac02
DTSTAMP:20251216T154522Z
SUMMARY:TRACK and FIELD-V Girls @ Hinsdale South High School (Game)
LOCATION:Away - Hinsdale South High School
URL;VALUE=URI:https://www.cusd201.org/whs/athletics/calendar/8346152/track-
 and-field-v-girls-hinsdale-south-high-school-game
DTSTART:20260207T143000Z
DTEND:20260207T183000Z
END:VEVENT
END:VCALENDAR
