BEGIN:VCALENDAR
VERSION:2.0
PRODID:SchoolNow
CALSCALE:GREGORIAN
BEGIN:VEVENT
UID:53bfbfa4-5082-11f0-8515-0a58a9feac02
DTSTAMP:20251216T154522Z
SUMMARY:CROSS COUNTRY-V Boys @ Harvest Christian Academy (Game)
LOCATION:Away - Harvest Christian Academy
URL;VALUE=URI:https://www.cusd201.org/whs/athletics/calendar/8346153/cross-
 country-v-boys-harvest-christian-academy-game
DTSTART:20250927T140000Z
DTEND:20250927T170000Z
END:VEVENT
END:VCALENDAR
