BEGIN:VCALENDAR
VERSION:2.0
PRODID:SchoolNow
CALSCALE:GREGORIAN
BEGIN:VEVENT
UID:53bfc0d0-5082-11f0-beee-0a58a9feac02
DTSTAMP:20251216T154523Z
SUMMARY:CROSS COUNTRY-V Girls @ Harvest Christian Academy (Game)
LOCATION:Away - Harvest Christian Academy
URL;VALUE=URI:https://www.cusd201.org/whs/athletics/calendar/8346154/cross-
 country-v-girls-harvest-christian-academy-game
DTSTART:20250927T140000Z
DTEND:20250927T170000Z
END:VEVENT
END:VCALENDAR
