BEGIN:VCALENDAR
VERSION:2.0
PRODID:SchoolNow
CALSCALE:GREGORIAN
BEGIN:VEVENT
UID:53bfc1e8-5082-11f0-9128-0a58a9feac02
DTSTAMP:20251216T154523Z
SUMMARY:ADMINISTRATION-N - VS NHS Event (Game)
LOCATION:HOME - Westmont HS Gym
URL;VALUE=URI:https://www.cusd201.org/whs/athletics/calendar/8346155/admini
 stration-n-vs-nhs-event-game
DTSTART:20251107T000000Z
DTEND:20251107T030000Z
END:VEVENT
END:VCALENDAR
