BEGIN:VCALENDAR
VERSION:2.0
PRODID:SchoolNow
CALSCALE:GREGORIAN
BEGIN:VEVENT
UID:53bfc2d8-5082-11f0-bf48-0a58a9feac02
DTSTAMP:20251216T154522Z
SUMMARY:ADMINISTRATION-N - VS NHS Event (Game)
LOCATION:HOME - Westmont HS Gym
URL;VALUE=URI:https://www.cusd201.org/whs/athletics/calendar/8346156/admini
 stration-n-vs-nhs-event-game
DTSTART:20260227T000000Z
DTEND:20260227T030000Z
END:VEVENT
END:VCALENDAR
