BEGIN:VCALENDAR
VERSION:2.0
PRODID:SchoolNow
CALSCALE:GREGORIAN
BEGIN:VEVENT
UID:53bfc3be-5082-11f0-b981-0a58a9feac02
DTSTAMP:20251216T154523Z
SUMMARY:ADMINISTRATION-N - VS NHS Event (Game)
LOCATION:HOME - Westmont HS Gym
URL;VALUE=URI:https://www.cusd201.org/whs/athletics/calendar/8346157/admini
 stration-n-vs-nhs-event-game
DTSTART:20260430T230000Z
DTEND:20260501T020000Z
END:VEVENT
END:VCALENDAR
