BEGIN:VCALENDAR
VERSION:2.0
PRODID:SchoolNow
CALSCALE:GREGORIAN
BEGIN:VEVENT
UID:4e99a2aa-50b5-11f0-805c-0a58a9feac02
DTSTAMP:20251216T154523Z
SUMMARY:TRACK and FIELD-JV Boys @ Hinsdale South High School (Game)
LOCATION:Away - Hinsdale South High School
URL;VALUE=URI:https://www.cusd201.org/whs/athletics/calendar/8347140/track-
 and-field-jv-boys-hinsdale-south-high-school-game
DTSTART:20260303T223000Z
DTEND:20260304T013000Z
END:VEVENT
END:VCALENDAR
