BEGIN:VCALENDAR
VERSION:2.0
PRODID:SchoolNow
CALSCALE:GREGORIAN
BEGIN:VEVENT
UID:4e99a502-50b5-11f0-a2d0-0a58a9feac02
DTSTAMP:20251216T154522Z
SUMMARY:VOLLEYBALL-V Girls - VS Morton High School (East/West) (Game)
LOCATION:HOME - Westmont HS Gym
URL;VALUE=URI:https://www.cusd201.org/whs/athletics/calendar/8347141/volley
 ball-v-girls-vs-morton-high-school-east-west-game
DTSTART:20251015T233000Z
DTEND:20251016T003000Z
END:VEVENT
END:VCALENDAR
