BEGIN:VCALENDAR
VERSION:2.0
PRODID:SchoolNow
CALSCALE:GREGORIAN
BEGIN:VEVENT
UID:ded6ccba-517f-11f0-8263-0a58a9feac02
DTSTAMP:20251216T154523Z
SUMMARY:BASEBALL-V Boys @ Nazareth Academy (Game)
LOCATION:Away - Nazareth Academy
URL;VALUE=URI:https://www.cusd201.org/whs/athletics/calendar/8351500/baseba
 ll-v-boys-nazareth-academy-game
DTSTART:20260512T213000Z
DTEND:20260512T233000Z
END:VEVENT
END:VCALENDAR
