BEGIN:VCALENDAR
VERSION:2.0
PRODID:SchoolNow
CALSCALE:GREGORIAN
BEGIN:VEVENT
UID:ded6eccc-517f-11f0-ac72-0a58a9feac02
DTSTAMP:20251216T154522Z
SUMMARY:BASEBALL-JV Boys - VS Nazareth Academy (Game)
LOCATION:HOME - Nazareth Academy
URL;VALUE=URI:https://www.cusd201.org/whs/athletics/calendar/8351501/baseba
 ll-jv-boys-vs-nazareth-academy-game
DTSTART:20260512T213000Z
DTEND:20260512T233000Z
END:VEVENT
END:VCALENDAR
