BEGIN:VCALENDAR
VERSION:2.0
PRODID:SchoolNow
CALSCALE:GREGORIAN
BEGIN:VEVENT
UID:b3f4a7ba-52e2-11f0-bd5f-0a58a9feac02
DTSTAMP:20251216T154522Z
SUMMARY:BASEBALL-V Boys @ West Aurora (Game)
LOCATION:Away - West Aurora
URL;VALUE=URI:https://www.cusd201.org/whs/athletics/calendar/8358716/baseba
 ll-v-boys-west-aurora-game
DTSTART:20260325T213000Z
DTEND:20260325T233000Z
END:VEVENT
END:VCALENDAR
